BEGIN:VCALENDAR
VERSION:2.0
PRODID:-//KC Zine Collective - ECPv6.15.17.1//NONSGML v1.0//EN
CALSCALE:GREGORIAN
METHOD:PUBLISH
X-ORIGINAL-URL:https://kczinecon.com
X-WR-CALDESC:Events for KC Zine Collective
REFRESH-INTERVAL;VALUE=DURATION:PT1H
X-Robots-Tag:noindex
X-PUBLISHED-TTL:PT1H
BEGIN:VTIMEZONE
TZID:America/Chicago
BEGIN:DAYLIGHT
TZOFFSETFROM:-0600
TZOFFSETTO:-0500
TZNAME:CDT
DTSTART:20250309T080000
END:DAYLIGHT
BEGIN:STANDARD
TZOFFSETFROM:-0500
TZOFFSETTO:-0600
TZNAME:CST
DTSTART:20251102T070000
END:STANDARD
BEGIN:DAYLIGHT
TZOFFSETFROM:-0600
TZOFFSETTO:-0500
TZNAME:CDT
DTSTART:20260308T080000
END:DAYLIGHT
BEGIN:STANDARD
TZOFFSETFROM:-0500
TZOFFSETTO:-0600
TZNAME:CST
DTSTART:20261101T070000
END:STANDARD
BEGIN:DAYLIGHT
TZOFFSETFROM:-0600
TZOFFSETTO:-0500
TZNAME:CDT
DTSTART:20270314T080000
END:DAYLIGHT
BEGIN:STANDARD
TZOFFSETFROM:-0500
TZOFFSETTO:-0600
TZNAME:CST
DTSTART:20271107T070000
END:STANDARD
END:VTIMEZONE
BEGIN:VEVENT
DTSTART;TZID=America/Chicago:20260325T183000
DTEND;TZID=America/Chicago:20260325T200000
DTSTAMP:20260424T205320
CREATED:20260121T203913Z
LAST-MODIFIED:20260121T203953Z
UID:334-1774463400-1774468800@kczinecon.com
SUMMARY:Tell Your Own Story: Create Your Zine
DESCRIPTION:Everyone has a story to tell — make your voice heard! Tell Your Own Story is an interactive writing workshop celebrating perzines: handmade magazines featuring personal memoir writing. Through guided free-writing exercises\, word mapping\, collage\, and word games\, participants will write and assemble an 8-page perzine. \nWhile participants can choose to attend some but not all of the sessions\, you’ll get the most out of the workshop by attending all four weeks: \n    March 4: You’ll learn all about what perzines are and the history of zine making.\n    March 11: Dedicated to writing the text of your zine.\n    March 18: All about collage and imagery!\n    March 25: Work on assembling and printing our zines.
URL:https://kczinecon.com/event/tell-your-own-story-create-your-zine/
LOCATION:KC Public Library: Plaza Branch\, 4801 Main Street\, Kansas City\, MO\, 64110\, United States
CATEGORIES:Workshops
ATTACH;FMTTYPE=image/jpeg:https://kczinecon.com/wp-content/uploads/2026/01/perzineworkshop2026_banner-scaled.jpg
ORGANIZER;CN="catmothcrow":MAILTO:daynamoth@protonmail.com
END:VEVENT
END:VCALENDAR